BEGIN:VCALENDAR
VERSION:2.0
PRODID:-//Forschungsvereinigung Räumliche Elektronische Baugruppen 3-D MID e.V. - ECPv5.16.4//NONSGML v1.0//EN
CALSCALE:GREGORIAN
METHOD:PUBLISH
X-WR-CALNAME:Forschungsvereinigung Räumliche Elektronische Baugruppen 3-D MID e.V.
X-ORIGINAL-URL:https://www.3d-mid.de
X-WR-CALDESC:Veranstaltungen für Forschungsvereinigung Räumliche Elektronische Baugruppen 3-D MID e.V.
REFRESH-INTERVAL;VALUE=DURATION:PT1H
X-Robots-Tag:noindex
X-PUBLISHED-TTL:PT1H
BEGIN:VTIMEZONE
TZID:Europe/Berlin
BEGIN:DAYLIGHT
TZOFFSETFROM:+0100
TZOFFSETTO:+0200
TZNAME:CEST
DTSTART:20240331T010000
END:DAYLIGHT
BEGIN:STANDARD
TZOFFSETFROM:+0200
TZOFFSETTO:+0100
TZNAME:CET
DTSTART:20241027T010000
END:STANDARD
END:VTIMEZONE
BEGIN:VEVENT
DTSTART;VALUE=DATE:20241023
DTEND;VALUE=DATE:20241025
DTSTAMP:20260420T185559
CREATED:20240323T105047Z
LAST-MODIFIED:20240323T110259Z
UID:22793-1729641600-1729814399@www.3d-mid.de
SUMMARY:MID Summit & MID Workshop
DESCRIPTION:
URL:https://www.3d-mid.de/event/mid-summit-mid-workshop/
LOCATION:Hahn-Schickard-Gesellschaft für angewandte Forschung e.V.\, Allmandring 9b\, Stuttgart\, 70569\, Deutschland
CATEGORIES:Konferenzen,Workshops
ORGANIZER;CN="3-D%20MID%20e.V.%20%26%20Hahn-Schickard-Gesellschaft%20e.V.":MAILTO:info@3dmid.de
END:VEVENT
END:VCALENDAR