BEGIN:VCALENDAR
VERSION:2.0
PRODID:-//Forschungsvereinigung Räumliche Elektronische Baugruppen 3-D MID e.V. - ECPv5.16.4//NONSGML v1.0//EN
CALSCALE:GREGORIAN
METHOD:PUBLISH
X-WR-CALNAME:Forschungsvereinigung Räumliche Elektronische Baugruppen 3-D MID e.V.
X-ORIGINAL-URL:https://www.3d-mid.de
X-WR-CALDESC:Veranstaltungen für Forschungsvereinigung Räumliche Elektronische Baugruppen 3-D MID e.V.
REFRESH-INTERVAL;VALUE=DURATION:PT1H
X-Robots-Tag:noindex
X-PUBLISHED-TTL:PT1H
BEGIN:VTIMEZONE
TZID:Europe/Berlin
BEGIN:DAYLIGHT
TZOFFSETFROM:+0100
TZOFFSETTO:+0200
TZNAME:CEST
DTSTART:20260329T010000
END:DAYLIGHT
BEGIN:STANDARD
TZOFFSETFROM:+0200
TZOFFSETTO:+0100
TZNAME:CET
DTSTART:20261025T010000
END:STANDARD
END:VTIMEZONE
BEGIN:VEVENT
DTSTART;VALUE=DATE:20260610
DTEND;VALUE=DATE:20260611
DTSTAMP:20260419T235824
CREATED:20241210T165908Z
LAST-MODIFIED:20251118T193413Z
UID:23455-1781049600-1781135999@www.3d-mid.de
SUMMARY:2. Vorstands- & Forschungsbeiratssitzung
DESCRIPTION:[vc_row][vc_column width=“2/3″][vc_column_text]Haben Sie eine bahnbrechende und zukunftsweisende Idee für ein Forschungsprojekt im Bereich der Räumlichen Elektronischen Baugruppen? \nDann laden wir Sie herzlich ein\, Ihre Projektskizze auf unserer Forschungsbeiratssitzung vorzustellen. \n  \nDie Forschungsvereinigung 3-D MID e.V. übernimmt in der industriellen Gemeinschaftsforschung (IGF) alle Forschungsthemen zur Funktionalisierung von dreidimensionalen Substraten. Darüber hinaus wird auch Forschung zur additiven Herstellung von räumlichen Baugruppen gerne angenommen. Zunehmender Fokus wird auf integrierte Produktionsprozesse gelegt\, um mechatronisch integrierte Produkte direkt in einer Anlage herstellen zu können und so ein hochfunktionales miniaturisiertes System zu erhalten. \n  \nKontaktieren Sie uns dazu gerne telefonisch oder per E-Mail\, siehe Kontaktdaten. Wir freuen uns auf Ihre Projektidee! \n  \nInformationen zur Forschung des 3-D MID e.V. \nInformationen zur Vorgehensweise der IGF-Antragstellung über 3-D MID e. V. \nInformationen zur Mitgliedschaft bei 3-D MID e.V.[/vc_column_text][/vc_column][vc_column width=“1/3″][vc_single_image image=“23856″ img_size=“full“][/vc_column][/vc_row]
URL:https://www.3d-mid.de/event/2-vorstands-forschungsbeiratssitzung/
LOCATION:Internationales Begegnungszentrum Stuttgart (IBZ)\, Robert-Leicht-Straße 161\, Stuttgart\, 70569\, Germany
CATEGORIES:Sitzung
ORGANIZER;CN="Forschungsvereinigung%203-D%20MID%20e.V.":MAILTO:info@3dmid.de
END:VEVENT
END:VCALENDAR