BEGIN:VCALENDAR
VERSION:2.0
PRODID:-//Forschungsvereinigung Räumliche Elektronische Baugruppen 3-D MID e.V. - ECPv5.16.4//NONSGML v1.0//EN
CALSCALE:GREGORIAN
METHOD:PUBLISH
X-WR-CALNAME:Forschungsvereinigung Räumliche Elektronische Baugruppen 3-D MID e.V.
X-ORIGINAL-URL:https://www.3d-mid.de
X-WR-CALDESC:Events for Forschungsvereinigung Räumliche Elektronische Baugruppen 3-D MID e.V.
REFRESH-INTERVAL;VALUE=DURATION:PT1H
X-Robots-Tag:noindex
X-PUBLISHED-TTL:PT1H
BEGIN:VTIMEZONE
TZID:Europe/Berlin
BEGIN:DAYLIGHT
TZOFFSETFROM:+0100
TZOFFSETTO:+0200
TZNAME:CEST
DTSTART:20240331T010000
END:DAYLIGHT
BEGIN:STANDARD
TZOFFSETFROM:+0200
TZOFFSETTO:+0100
TZNAME:CET
DTSTART:20241027T010000
END:STANDARD
END:VTIMEZONE
BEGIN:VEVENT
DTSTART;TZID=Europe/Berlin:20240207T160000
DTEND;TZID=Europe/Berlin:20240207T173000
DTSTAMP:20260425T171851
CREATED:20231108T101427Z
LAST-MODIFIED:20231108T102756Z
UID:22486-1707321600-1707327000@www.3d-mid.de
SUMMARY:13th MID Day
DESCRIPTION:[vc_row][vc_column width=”2/3″][vc_column_text]At the MID Days you will be informed about the research projects of the Research Association 3-D MID and gain insights into projects of our industrial partners. The event is open to all MID-interested parties and free of charge. \n  \nThe MID Day takes place once a quarter in the afternoon from 4 to 5:30 PM CE(S)T via Zoom. There will be two presentations of 20 minutes each\, followed by a Q&A session of about 10 minutes. Finally\, speakers and participants can network in the Zoom Meeting. The presentation will be held in English. \n  \nRegistration \nTo the registration \nAfter your free registration you will receive the access data for the online event by e-mail.[/vc_column_text][/vc_column][vc_column width=”1/3″][vc_single_image image=”16220″ img_size=”full”][vc_column_text] \nPicutre: Bright MIDster\n[/vc_column_text][/vc_column][/vc_row]
URL:https://www.3d-mid.de/en/event/13th-mid-day/
LOCATION:online
CATEGORIES:Workshops
ORGANIZER;CN="Research%20Association%203-D%20MID%20e.V.":MAILTO:info@3dmid.de
END:VEVENT
END:VCALENDAR