BEGIN:VCALENDAR
VERSION:2.0
PRODID:-//Forschungsvereinigung Räumliche Elektronische Baugruppen 3-D MID e.V. - ECPv5.16.4//NONSGML v1.0//EN
CALSCALE:GREGORIAN
METHOD:PUBLISH
X-ORIGINAL-URL:https://www.3d-mid.de
X-WR-CALDESC:Events for Forschungsvereinigung Räumliche Elektronische Baugruppen 3-D MID e.V.
REFRESH-INTERVAL;VALUE=DURATION:PT1H
X-Robots-Tag:noindex
X-PUBLISHED-TTL:PT1H
BEGIN:VTIMEZONE
TZID:Europe/Berlin
BEGIN:DAYLIGHT
TZOFFSETFROM:+0100
TZOFFSETTO:+0200
TZNAME:CEST
DTSTART:20260329T010000
END:DAYLIGHT
BEGIN:STANDARD
TZOFFSETFROM:+0200
TZOFFSETTO:+0100
TZNAME:CET
DTSTART:20261025T010000
END:STANDARD
END:VTIMEZONE
BEGIN:VEVENT
DTSTART;VALUE=DATE:20260930
DTEND;VALUE=DATE:20261002
DTSTAMP:20260420T013123
CREATED:20241210T171519Z
LAST-MODIFIED:20260412T180539Z
UID:23463-1790726400-1790899199@www.3d-mid.de
SUMMARY:MID Summit & MID Workshop 2026
DESCRIPTION:[vc_row][vc_column width=”2/3″][vc_column_text] \n\n\n\n\n\n\n\n\n\n\nNEW: This year’s MID Summit will take place in Nuremberg for the first time.\n\n\n\n\n\n\n\n\n\n\nThis two-day event will feature expert presentations by industry leaders and researchers\, highlighting the latest developments in MID applications and technologies. In addition\, there will be a poster session showcasing current research projects\, as well as a technical exhibition. Participants will also have the opportunity to take part in various workshops on MID-related topics. This is a unique opportunity to gain new insights\, exchange ideas\, and network with peers from the industry. \nUnder the guiding theme “Sovereignty\, resilience\, and autonomy in disruptive pivot technologies\,” the MID Summit aims to demonstrate the potential of mechatronic integration in current innovations that are fundamentally transforming conventional products\, processes\, services\, business models\, markets\, and even societies. The MID Summit provides a unique platform to better understand\, discuss\, and strategically shape these disruptive developments together. \nLook forward to a diverse program featuring keynotes\, workshops\, presentations\, and much more. \nThis year’s venue will be in Nuremberg: Muggenhofer Straße 141\, Auf AEG” Geb 14/1.OG\, 90429 Nürnberg[/vc_column_text][/vc_column][vc_column width=”1/3″][vc_gallery interval=”3″ images=”23958\,23957\,23956″ img_size=”full” onclick=””]Registration[/vc_column][/vc_row]
URL:https://www.3d-mid.de/en/event/mid-summit-mid-workshop-2026/
LOCATION:Lehrstuhl FAPS\, Muggenhofer Straße 141\, Nürnberg\, Bayern\, 90429\, Germany
CATEGORIES:Conferences,Workshops
ORGANIZER;CN="Research%20Association%203-D%20MID%20e.V.":MAILTO:info@3dmid.de
END:VEVENT
BEGIN:VEVENT
DTSTART;VALUE=DATE:20261110
DTEND;VALUE=DATE:20261114
DTSTAMP:20260420T013123
CREATED:20241210T172241Z
LAST-MODIFIED:20251007T185543Z
UID:23470-1794268800-1794614399@www.3d-mid.de
SUMMARY:electronica 2026
DESCRIPTION:[vc_row][vc_column width=”2/3″][vc_column_text] \n3-D MID at electronica\n[/vc_column_text][vc_column_text]At the internationally renowned trade fair electronica in Munich\, the Research Association 3-D MID regularly presents itself together with members on a joint booth measuring approx. 100 m². The openly designed booth concept with six screens enables the presentation of the entire process chain for the production of Mechatronic Integrated Devices. The presentation is accompanied by showcases with numerous applications\, displays and demonstrators. In addition\, the physical well-being and meeting possibilities are provided in order to be able to deepen the emerging contacts directly on site.[/vc_column_text][/vc_column][vc_column width=”1/3″][vc_empty_space height=”65px”][vc_single_image image=”21707″ img_size=”full”][vc_column_text] \nSource: electronica\n[/vc_column_text][vc_single_image image=”19463″ img_size=”full”][/vc_column][/vc_row][vc_column width=”1/2″][/vc_column][vc_column width=”1/2″][/vc_column]
URL:https://www.3d-mid.de/en/event/electronica-2026/
LOCATION:Messe/ ICM\, Am Messeturm 8\, München\, Bayern\, 81829\, Deutschland
CATEGORIES:Trade fairs
ORGANIZER;CN="Research%20Association%203-D%20MID%20e.V.":MAILTO:info@3dmid.de
GEO:48.1356835;11.7056322
X-APPLE-STRUCTURED-LOCATION;VALUE=URI;X-ADDRESS=Messe/ ICM Am Messeturm 8 München Bayern 81829 Deutschland;X-APPLE-RADIUS=500;X-TITLE=Am Messeturm 8:geo:11.7056322,48.1356835
END:VEVENT
END:VCALENDAR