BEGIN:VCALENDAR
VERSION:2.0
PRODID:-//Forschungsvereinigung Räumliche Elektronische Baugruppen 3-D MID e.V. - ECPv5.16.4//NONSGML v1.0//EN
CALSCALE:GREGORIAN
METHOD:PUBLISH
X-WR-CALNAME:Forschungsvereinigung Räumliche Elektronische Baugruppen 3-D MID e.V.
X-ORIGINAL-URL:https://www.3d-mid.de
X-WR-CALDESC:Events for Forschungsvereinigung Räumliche Elektronische Baugruppen 3-D MID e.V.
REFRESH-INTERVAL;VALUE=DURATION:PT1H
X-Robots-Tag:noindex
X-PUBLISHED-TTL:PT1H
BEGIN:VTIMEZONE
TZID:Europe/Berlin
BEGIN:DAYLIGHT
TZOFFSETFROM:+0100
TZOFFSETTO:+0200
TZNAME:CEST
DTSTART:20240331T010000
END:DAYLIGHT
BEGIN:STANDARD
TZOFFSETFROM:+0200
TZOFFSETTO:+0100
TZNAME:CET
DTSTART:20241027T010000
END:STANDARD
END:VTIMEZONE
BEGIN:VEVENT
DTSTART;VALUE=DATE:20240306
DTEND;VALUE=DATE:20240308
DTSTAMP:20260421T154326
CREATED:20231108T142355Z
LAST-MODIFIED:20240115T164807Z
UID:22502-1709683200-1709855999@www.3d-mid.de
SUMMARY:LOPEC 2024
DESCRIPTION:
URL:https://www.3d-mid.de/en/event/lopec-2024/
LOCATION:Messe/ ICM\, Am Messeturm 8\, München\, Bayern\, 81829\, Deutschland
CATEGORIES:Trade fairs
ORGANIZER;CN="Messe%20M%C3%BCnchen%20GmbH":MAILTO:newsline@messe-muenchen.de
GEO:48.1356835;11.7056322
X-APPLE-STRUCTURED-LOCATION;VALUE=URI;X-ADDRESS=Messe/ ICM Am Messeturm 8 München Bayern 81829 Deutschland;X-APPLE-RADIUS=500;X-TITLE=Am Messeturm 8:geo:11.7056322,48.1356835
END:VEVENT
END:VCALENDAR